BEGIN:VCALENDAR
VERSION:2.0
PRODID:-//eventon.com NONSGML v1.0//EN
CALSCALE:GREGORIAN
METHOD:PUBLISH
BEGIN:VEVENT
UID:69e731c1ce580
DTSTAMP:20260421T081353Z
DTSTART:20201013T150000Z
DTEND:20201013T210000Z
LOCATION:
SUMMARY:Ghostbikes Bike Meet Preston
DESCRIPTION:https://www.ghostbikes.com/ &nbsp; &nbsp;\nhttps://www.johnsmot
 orcyclenews.co.uk/events/ghostbikes-bike-meet-preston-2/var/ri-32.l-L1
URL:https://www.johnsmotorcyclenews.co.uk/events/ghostbikes-bike-meet-preston-2/var/ri-32.l-L1
END:VEVENT
END:VCALENDAR