BEGIN:VCALENDAR
VERSION:2.0
PRODID:-//eventon.com NONSGML v1.0//EN
CALSCALE:GREGORIAN
METHOD:PUBLISH
BEGIN:VEVENT
UID:69e715635cc4e
DTSTAMP:20260421T061251Z
DTSTART:20201006T150000Z
DTEND:20201006T210000Z
LOCATION:
SUMMARY:Ghostbikes Bike Meet Preston
DESCRIPTION:https://www.ghostbikes.com/ &nbsp; &nbsp;\nhttps://www.johnsmot
 orcyclenews.co.uk/events/ghostbikes-bike-meet-preston-2/var/ri-31.l-L1
URL:https://www.johnsmotorcyclenews.co.uk/events/ghostbikes-bike-meet-preston-2/var/ri-31.l-L1
END:VEVENT
END:VCALENDAR