BEGIN:VCALENDAR
VERSION:2.0
PRODID:-//eventon.com NONSGML v1.0//EN
CALSCALE:GREGORIAN
METHOD:PUBLISH
BEGIN:VEVENT
UID:69e8488b5d354
DTSTAMP:20260422T040323Z
DTSTART:20200425
DTEND:20200426
LOCATION:
SUMMARY:Stafford Classic Bike Show
DESCRIPTION:https://www.staffordclassicbikeshows.com/\nhttps://www.johnsmot
 orcyclenews.co.uk/events/stafford-classic-bike-show/
URL:https://www.johnsmotorcyclenews.co.uk/events/stafford-classic-bike-show/
END:VEVENT
END:VCALENDAR